BEGIN:VCALENDAR
VERSION:2.0
PRODID:-//Empower Wellness - ECPv6.15.11//NONSGML v1.0//EN
CALSCALE:GREGORIAN
METHOD:PUBLISH
X-WR-CALNAME:Empower Wellness
X-ORIGINAL-URL:https://www.empowerwellness.com
X-WR-CALDESC:Events for Empower Wellness
REFRESH-INTERVAL;VALUE=DURATION:PT1H
X-Robots-Tag:noindex
X-PUBLISHED-TTL:PT1H
BEGIN:VTIMEZONE
TZID:America/New_York
BEGIN:DAYLIGHT
TZOFFSETFROM:-0500
TZOFFSETTO:-0400
TZNAME:EDT
DTSTART:20250309T070000
END:DAYLIGHT
BEGIN:STANDARD
TZOFFSETFROM:-0400
TZOFFSETTO:-0500
TZNAME:EST
DTSTART:20251102T060000
END:STANDARD
BEGIN:DAYLIGHT
TZOFFSETFROM:-0500
TZOFFSETTO:-0400
TZNAME:EDT
DTSTART:20260308T070000
END:DAYLIGHT
BEGIN:STANDARD
TZOFFSETFROM:-0400
TZOFFSETTO:-0500
TZNAME:EST
DTSTART:20261101T060000
END:STANDARD
BEGIN:DAYLIGHT
TZOFFSETFROM:-0500
TZOFFSETTO:-0400
TZNAME:EDT
DTSTART:20270314T070000
END:DAYLIGHT
BEGIN:STANDARD
TZOFFSETFROM:-0400
TZOFFSETTO:-0500
TZNAME:EST
DTSTART:20271107T060000
END:STANDARD
END:VTIMEZONE
BEGIN:VEVENT
DTSTART;TZID=America/New_York:20260429T180000
DTEND;TZID=America/New_York:20260429T193000
DTSTAMP:20260423T084216
CREATED:20260227T005700Z
LAST-MODIFIED:20260418T024715Z
UID:2645-1777485600-1777491000@www.empowerwellness.com
SUMMARY:Qi Gong and Tai Chi Fundamentals 5-Week Series BEGINS
DESCRIPTION:Join me for a gentle\, nourishing movement series designed to develop internal energy\, support health and happiness\, and cultivate peaceful intention. \nIn this five-week Qi Gong series open to all people\, you’ll be guided through light\, flowing movements drawn from several forms of Qi Gong\, along with foundational principles from Tai Chi Chu’an—a martial branch of Qi Gong that emphasizes internal strength\, continuity\, and grounded presence. While this series stands fully on its own\, it is also intended as a supportive precursor to future internal martial arts training\, which can help cultivate resilience\, stability\, and strength from the inside out. \nThere are many different kinds of moving and meditative Qi Gong practiced around the world today. Not all forms work with internal energy in the same way or with the same depth. In this series\, we will be practicing heart-centered forms that I have found to be particularly effective at moving\, balancing\, and harmonizing energy—while remaining gentle\, accessible\, and supportive of the nervous system. \nThe practices shared in this series are open to all people and are curated from my ongoing study and practice since 2012 with teachers including Qi Gong Master Ou\, Tai Chi Chu’an Master Vincent Chu\, Paul Fraser\, and Minke de Vos. \nThis work is especially beneficial for: \n\n\nSupporting harmony and the even resolution of chronic health challenges \n\n\nHealthy aging\, vitality\, and internal strength \n\n\nEmotional balance and nervous system regulation \n\n\nOverall well-being and embodied presence \n\n\nWe’ll focus on simple\, easy-to-learn movements that you can realistically integrate into daily life. Each class will also include a short self-healing meditation protocol to support inner balance and the body’s natural capacity for restoration. \nPracticing together matters—whether in the same place or at the same time. When we move and cultivate energy in a shared intentional field\, the experience is often amplified: more grounded\, more present\, and more nourishing than practicing alone. I am very much looking forward to sharing this space and practice with you. \n\nDetails : Register here \nFormat: Offered Online via ZoomAll sessions are recorded and available for one week after delivery. \n#1 Wednesdays — April 29\, May 6\, 13\, 20\, 27 (Save the dates) \nTime:6:00-7:15 PMEastern (U.S.) \nOnline attendance:Link provided in registration and reminder emails. \nPricing:$138 per person \nRegister for April 29 – May 27 Series \n(Photo: Practicing Pangu Tai Chi at Umstead Park in NC\, 2016)
URL:https://www.empowerwellness.com/event/qi-gong-and-tai-chi-fundamentals-5-week-series-begins/
LOCATION:Various – see link for more info
ORGANIZER;CN="Erin Tracy":MAILTO:erin@empowerwellness.com
END:VEVENT
END:VCALENDAR