BEGIN:VCALENDAR
VERSION:2.0
PRODID:-//Empower Wellness - ECPv6.15.11//NONSGML v1.0//EN
CALSCALE:GREGORIAN
METHOD:PUBLISH
X-WR-CALNAME:Empower Wellness
X-ORIGINAL-URL:https://www.empowerwellness.com
X-WR-CALDESC:Events for Empower Wellness
REFRESH-INTERVAL;VALUE=DURATION:PT1H
X-Robots-Tag:noindex
X-PUBLISHED-TTL:PT1H
BEGIN:VTIMEZONE
TZID:America/New_York
BEGIN:DAYLIGHT
TZOFFSETFROM:-0500
TZOFFSETTO:-0400
TZNAME:EDT
DTSTART:20230312T070000
END:DAYLIGHT
BEGIN:STANDARD
TZOFFSETFROM:-0400
TZOFFSETTO:-0500
TZNAME:EST
DTSTART:20231105T060000
END:STANDARD
BEGIN:DAYLIGHT
TZOFFSETFROM:-0500
TZOFFSETTO:-0400
TZNAME:EDT
DTSTART:20240310T070000
END:DAYLIGHT
BEGIN:STANDARD
TZOFFSETFROM:-0400
TZOFFSETTO:-0500
TZNAME:EST
DTSTART:20241103T060000
END:STANDARD
BEGIN:DAYLIGHT
TZOFFSETFROM:-0500
TZOFFSETTO:-0400
TZNAME:EDT
DTSTART:20250309T070000
END:DAYLIGHT
BEGIN:STANDARD
TZOFFSETFROM:-0400
TZOFFSETTO:-0500
TZNAME:EST
DTSTART:20251102T060000
END:STANDARD
END:VTIMEZONE
BEGIN:VEVENT
DTSTART;TZID=America/New_York:20240720T120000
DTEND;TZID=America/New_York:20240720T133000
DTSTAMP:20260425T071341
CREATED:20230628T203425Z
LAST-MODIFIED:20240628T093949Z
UID:1949-1721476800-1721482200@www.empowerwellness.com
SUMMARY:Non-Moving Form Qi Gong (Pangu Shengong L2)
DESCRIPTION:Pre-Requisite for NON-MOVING FORM Qi Gong Instruction: Regular practice of PGSG Moving Form Qi Gong for at least a month (first level) \nAttend: Livestream via Zoom Online  \n(All times are Eastern USA Time – ET) \nErin will be leading Qi Gong Instruction for the SECOND level of Pangu Shengong. This is a powerful\, simple\, and effective form of Qi Gong called Pangu Non-Moving Form (also known as Pangu Shengong Cognitive and Sensory Development Non-Moving Form). \n“The Nonmoving Form is a more advanced form of qigong\, and no physical movement is required. The form is designed to strengthen the nervous system\, and the Spirit\, increase mental capacity\, and cultivate intuitive abilities. The daily practice of this form to absorb universal energy can take place anywhere\, allowing one to set aside concerns about privacy or how others view your activity.” \nQi can be translated as life force\, vital force\, and energy\, among other ways. When the Qi in our bodies\, which has always been there\, is abundant and flowing freely\, we can be more in harmony with our environment and free from disease and health conditions. Qi Gong can be translated to mean the cultivation of life force or energy. Pangu Shengong is a unique and powerful way to do this. Based on the concepts and power of loving-kindness\, practitioners are able to start to get benefits from practicing this form right away. Once you learn this form\, you never lose the foundational energy built into the instruction; daily and regular practice will help you be healthier\, happier\, and stronger. \nIn just 90 minutes of the qi gong instruction\, you will know completely this health and happiness-promoting form of Qi Gong. \nErin is certified to teach both the Moving Form and Non-Moving Form of Pangu Shengong and is an advanced student of Qi Gong Master Ou\, Wen Wei. \nMore Info about this practice can be found here: Pangu.org \n-SIGN UP IN ADVANCE HERE– \n$120 – retakes are free
URL:https://www.empowerwellness.com/event/non-moving-form-qi-gong-pangu-shengong-level-2-9/
LOCATION:ONLINE – Information to join sent to registrants\, Online\, NC\, 27607\, United States
CATEGORIES:Class,Healing,Meditation,qi gong,qigong
ORGANIZER;CN="Erin Tracy":MAILTO:erin@empowerwellness.com
END:VEVENT
END:VCALENDAR