BEGIN:VCALENDAR
VERSION:2.0
PRODID:-//Empower Wellness - ECPv6.15.11//NONSGML v1.0//EN
CALSCALE:GREGORIAN
METHOD:PUBLISH
X-ORIGINAL-URL:https://www.empowerwellness.com
X-WR-CALDESC:Events for Empower Wellness
REFRESH-INTERVAL;VALUE=DURATION:PT1H
X-Robots-Tag:noindex
X-PUBLISHED-TTL:PT1H
BEGIN:VTIMEZONE
TZID:UTC
BEGIN:STANDARD
TZOFFSETFROM:+0000
TZOFFSETTO:+0000
TZNAME:UTC
DTSTART:20160101T000000
END:STANDARD
END:VTIMEZONE
BEGIN:VEVENT
DTSTART;TZID=UTC:20180121T160000
DTEND;TZID=UTC:20180121T170000
DTSTAMP:20260424T115412
CREATED:20180107T021057Z
LAST-MODIFIED:20180107T021057Z
UID:990-1516550400-1516554000@www.empowerwellness.com
SUMMARY:Guided Healing Meditation
DESCRIPTION:Anyone can learn to quiet the mind. Guided Healing Meditation lets you have that experience.\n$10 (or pay what you can) \nExperience a 50 minute guided healing meditation intended to help participants deeply relax. As part of the meditation\, a Qi Gong healing will be offered for the group. If you are interested in Qi Gong healing\, Pangu Shengong\, or meditation\, this is a good way to experience how this practice can bring more peace\, ease\, and healing into your life. Even if you don’t care about any of that\, these group sessions are beneficial and will help you relax and feel supported. \nQi Gong Healing is based on the same principles as acupuncture methods and martial arts forms. Many report deep and long-lasting changes emotionally and physically after experience with Qi Gong healing and meditation. Come get a taste of what it is about and come back often!  See http://www.empowerwellness.com/group-healing-meditation/ for more info. Please arrive at least 5 minutes early so you can get settled before we start. \n-Pre-Register Here- \nRaleigh Yoga Center\, 619 Oberlin Rd (Rear of Burnie Batchelor Building) 4:00-5:00PM\nArrive by 4:00 so we can start on time.  Thank you. \nPark in the rear accessed from the right side of the building. \nMore Info\nI rent the space where these meditations are held\, so the fee helps to defray that cost and the cost of community marketing.  Also\, I want to honor my time spent preparing for and leading these meditations and I do believe that my time\, skills\, and gifts are worth something.  By adding the phrase “pay what you can”\, my intention is to make the opportunity for guided meditation and healing available to all.  It is not my intention to offer these sessions for free. \nFurther\, it is also well known in our culture that people value things more when they pay for them or give some consideration.  The adage “You get what you pay for” when one is disappointed with something they got for free or little money illustrates this sentiment. I ask for a $10 per person per session\, but it is always up to the participant to give what they can.
URL:https://www.empowerwellness.com/event/guided-healing-meditation-21/
LOCATION:Raleigh Yoga Center\, 619 Oberlin RD\, Raleigh\, NC\,  27605\, United States
CATEGORIES:Class,Healing,Meditation
ORGANIZER;CN="Erin Tracy":MAILTO:erin@empowerwellness.com
END:VEVENT
BEGIN:VEVENT
DTSTART;TZID=UTC:20180107T160000
DTEND;TZID=UTC:20180107T170000
DTSTAMP:20260424T115412
CREATED:20180107T020906Z
LAST-MODIFIED:20180107T020906Z
UID:988-1515340800-1515344400@www.empowerwellness.com
SUMMARY:Guided Healing Meditation
DESCRIPTION:Anyone can learn to quiet the mind. Guided Healing Meditation lets you have that experience.\n$10 (or pay what you can) \nExperience a 50 minute guided healing meditation intended to help participants deeply relax. As part of the meditation\, a Qi Gong healing will be offered for the group. If you are interested in Qi Gong healing\, Pangu Shengong\, or meditation\, this is a good way to experience how this practice can bring more peace\, ease\, and healing into your life. Even if you don’t care about any of that\, these group sessions are beneficial and will help you relax and feel supported. \nQi Gong Healing is based on the same principles as acupuncture methods and martial arts forms. Many report deep and long-lasting changes emotionally and physically after experience with Qi Gong healing and meditation. Come get a taste of what it is about and come back often!  See http://www.empowerwellness.com/group-healing-meditation/ for more info. Please arrive at least 5 minutes early so you can get settled before we start. \n-Pre-Register Here- \nRaleigh Yoga Center\, 619 Oberlin Rd (Rear of Burnie Batchelor Building) 4:00-5: 00 PM\nArrive by 4:00 so we can start on time.  Thank you. \nPark in the rear accessed from the right side of the building. \nMore Info\nI rent the space where these meditations are held\, so the fee helps to defray that cost and the cost of community marketing.  Also\, I want to honor my time spent preparing for and leading these meditations and I do believe that my time\, skills\, and gifts are worth something.  By adding the phrase “pay what you can”\, my intention is to make the opportunity for guided meditation and healing available to all.  It is not my intention to offer these sessions for free. \nFurther\, it is also well known in our culture that people value things more when they pay for them or give some consideration.  The adage “You get what you pay for” when one is disappointed with something they got for free or little money illustrates this sentiment. I ask for a $10 per person per session\, but it is always up to the participant to give what they can.
URL:https://www.empowerwellness.com/event/guided-healing-meditation-20/
LOCATION:Raleigh Yoga Center\, 619 Oberlin RD\, Raleigh\, NC\,  27605\, United States
CATEGORIES:Class,Healing,Meditation
ORGANIZER;CN="Erin Tracy":MAILTO:erin@empowerwellness.com
END:VEVENT
BEGIN:VEVENT
DTSTART;TZID=UTC:20180101T130000
DTEND;TZID=UTC:20180101T140000
DTSTAMP:20260424T115412
CREATED:20171229T215253Z
LAST-MODIFIED:20171229T215644Z
UID:977-1514811600-1514815200@www.empowerwellness.com
SUMMARY:Facebook Live Guided Meditation New Year's Day 2018
DESCRIPTION:Free. What would you like to bring into your life in 2018? Is there something you recognize you’d like to experience less? Throw away what is no longer serving you or doesn’t bring you joy – letting go with a wide-open and compassionate heart! \n\n\n \n\n\nJoin me for a Guided Meditation opportunity via Facebook live on New Year’s Day 2018 at 1:00pm EST (10:00am PST).\n\n\n\n \n\nThis meditation will be similar to what I lead a couple of Sundays a month in Cameron Village in Raleigh\, but you can do it from the comfort of home this time! Find a quiet place to sit or lie down for about 45-50min. at the start time. As usual\, I will include techniques to help the whole body feel relaxed\, balanced\, and harmonious. Please share with your friends and anyone who might be interested in a deeply resetting experience via a powerful guided meditation. \n\nSelect “Going” or “Interested” on this event’s page (below) and tune in to the Facebook page “Empower Wellness with Erin Tracy’  at 1:00pm EST on Jan 1 2018.\n\n\nYou can “RSVP” at this facebook book page so that you get a reminder.\nhttps://www.facebook.com/events/1774277296199747/\n\n\nTune in at this page on Jan. 1\, 2018 at 1:00pm EST.\nhttps://business.facebook.com/empowerwellnesshealingcoaching/\n\nAfter the event\, the recording will be available at the above link and also on YouTube within 24 hours of the live recording.
URL:https://www.empowerwellness.com/event/facebook-live-guided-meditation-new-years-day-2018/
LOCATION:NC
CATEGORIES:Healing,Meditation
ORGANIZER;CN="Erin Tracy":MAILTO:erin@empowerwellness.com
END:VEVENT
BEGIN:VEVENT
DTSTART;TZID=UTC:20171217T160000
DTEND;TZID=UTC:20171217T170000
DTSTAMP:20260424T115412
CREATED:20171028T014515Z
LAST-MODIFIED:20171028T015237Z
UID:920-1513526400-1513530000@www.empowerwellness.com
SUMMARY:Guided Healing Meditation
DESCRIPTION:Anyone can learn to quiet the mind. Guided Healing Meditation lets you have that experience.\n$10 (or pay what you can) \nExperience a 50 minute guided healing meditation intended to help participants deeply relax. As part of the meditation\, a Qi Gong healing will be offered for the group. If you are interested in Qi Gong healing\, Pangu Shengong\, or meditation\, this is a good way to experience how this practice can bring more peace\, ease\, and healing into your life. Even if you don’t care about any of that\, these group sessions are beneficial and will help you relax and feel supported. \nQi Gong Healing is based on the same principles as acupuncture methods and martial arts forms. Many report deep and long-lasting changes emotionally and physically after experience with Qi Gong healing and meditation. Come get a taste of what it is about and come back often!  See http://www.empowerwellness.com/group-healing-meditation/ for more info. Please arrive at least 5 minutes early so you can get settled before we start. \n-Pre-Register Here- \nRaleigh Yoga Center\, 619 Oberlin Rd (Rear of Burnie Batchelor Building) 4:00-5:00PM\nArrive by 4:00 so we can start on time.  Thank you. \nPark in the rear accessed from the right side of the building. \nMore Info\nI rent the space where these meditations are held\, so the fee helps to defray that cost and the cost of community marketing.  Also\, I want to honor my time spent preparing for and leading these meditations and I do believe that my time\, skills\, and gifts are worth something.  By adding the phrase “pay what you can”\, my intention is to make the opportunity for guided meditation and healing available to all.  It is not my intention to offer these sessions for free. \nFurther\, it is also well known in our culture that people value things more when they pay for them or give some consideration.  The adage “You get what you pay for” when one is disappointed with something they got for free or little money illustrates this sentiment. I ask for a $10 per person per session\, but it is always up to the participant to give what they can.
URL:https://www.empowerwellness.com/event/guided-healing-meditation-19/
LOCATION:Raleigh Yoga Center\, 619 Oberlin RD\, Raleigh\, NC\,  27605\, United States
CATEGORIES:Class,Healing,Meditation
ORGANIZER;CN="Erin Tracy":MAILTO:erin@empowerwellness.com
END:VEVENT
BEGIN:VEVENT
DTSTART;TZID=UTC:20171210T160000
DTEND;TZID=UTC:20171210T170000
DTSTAMP:20260424T115412
CREATED:20171028T014403Z
LAST-MODIFIED:20171028T014403Z
UID:918-1512921600-1512925200@www.empowerwellness.com
SUMMARY:Guided Healing Meditation
DESCRIPTION:Anyone can learn to quiet the mind. Guided Healing Meditation lets you have that experience.\n$10 (or pay what you can) \nExperience a 50 minute guided healing meditation intended to help participants deeply relax. As part of the meditation\, a Qi Gong healing will be offered for the group. If you are interested in Qi Gong healing\, Pangu Shengong\, or meditation\, this is a good way to experience how this practice can bring more peace\, ease\, and healing into your life. Even if you don’t care about any of that\, these group sessions are beneficial and will help you relax and feel supported. \nQi Gong Healing is based on the same principles as acupuncture methods and martial arts forms. Many report deep and long-lasting changes emotionally and physically after experience with Qi Gong healing and meditation. Come get a taste of what it is about and come back often!  See http://www.empowerwellness.com/group-healing-meditation/ for more info. Please arrive at least 5 minutes early so you can get settled before we start. \n-Pre-Register Here- \nRaleigh Yoga Center\, 619 Oberlin Rd (Rear of Burnie Batchelor Building) 4:00-5:00PM\nArrive by 4:00 so we can start on time.  Thank you. \nPark in the rear accessed from the right side of the building. \nMore Info\nI rent the space where these meditations are held\, so the fee helps to defray that cost and the cost of community marketing.  Also\, I want to honor my time spent preparing for and leading these meditations and I do believe that my time\, skills\, and gifts are worth something.  By adding the phrase “pay what you can”\, my intention is to make the opportunity for guided meditation and healing available to all.  It is not my intention to offer these sessions for free. \nFurther\, it is also well known in our culture that people value things more when they pay for them or give some consideration.  The adage “You get what you pay for” when one is disappointed with something they got for free or little money illustrates this sentiment. I ask for a $10 per person per session\, but it is always up to the participant to give what they can.
URL:https://www.empowerwellness.com/event/guided-healing-meditation-18/
LOCATION:Raleigh Yoga Center\, 619 Oberlin RD\, Raleigh\, NC\,  27605\, United States
CATEGORIES:Class,Healing,Meditation
ORGANIZER;CN="Erin Tracy":MAILTO:erin@empowerwellness.com
END:VEVENT
BEGIN:VEVENT
DTSTART;TZID=UTC:20171022T160000
DTEND;TZID=UTC:20171022T170000
DTSTAMP:20260424T115412
CREATED:20170906T211012Z
LAST-MODIFIED:20171028T014055Z
UID:872-1508688000-1508691600@www.empowerwellness.com
SUMMARY:Guided Healing Meditation
DESCRIPTION:Anyone can learn to quiet the mind. Guided Healing Meditation lets you have that experience.\n$10 (or pay what you can) \nExperience a 50 minute guided healing meditation intended to help participants deeply relax. As part of the meditation\, a Qi Gong healing will be offered for the group. If you are interested in Qi Gong healing\, Pangu Shengong\, or meditation\, this is a good way to experience how this practice can bring more peace\, ease\, and healing into your life. Even if you don’t care about any of that\, these group sessions are beneficial and will help you relax and feel supported. \nQi Gong Healing is based on the same principles as acupuncture methods and martial arts forms. Many report deep and long-lasting changes emotionally and physically after experience with Qi Gong healing and meditation. Come get a taste of what it is about and come back often!  See http://www.empowerwellness.com/group-healing-meditation/ for more info. Please arrive at least 5 minutes early so you can get settled before we start. \n-Pre-Register Here- \nRaleigh Yoga Center\, 619 Oberlin Rd (Rear of Burnie Batchelor Building) 4:00-5:00PM\nArrive by 4:00 so we can start on time.  Thank you. \nPark in the rear accessed from the right side of the building. \nMore Info\nI rent the space where these meditations are held\, so the fee helps to defray that cost and the cost of community marketing.  Also\, I want to honor my time spent preparing for and leading these meditations and I do believe that my time\, skills\, and gifts are worth something.  By adding the phrase “pay what you can”\, my intention is to make the opportunity for guided meditation and healing available to all.  It is not my intention to offer these sessions for free. \nFurther\, it is also well known in our culture that people value things more when they pay for them or give some consideration.  The adage “You get what you pay for” when one is disappointed with something they got for free or little money illustrates this sentiment. I ask for a $10 per person per session\, but it is always up to the participant to give what they can.
URL:https://www.empowerwellness.com/event/guided-healing-meditation-15/
LOCATION:Raleigh Yoga Center\, 619 Oberlin RD\, Raleigh\, NC\,  27605\, United States
CATEGORIES:Class,Group Practice,Healing,Meditation,Workshop
ORGANIZER;CN="Erin Tracy":MAILTO:erin@empowerwellness.com
END:VEVENT
BEGIN:VEVENT
DTSTART;TZID=UTC:20171008T160000
DTEND;TZID=UTC:20171008T170000
DTSTAMP:20260424T115412
CREATED:20170906T210827Z
LAST-MODIFIED:20170906T211931Z
UID:870-1507478400-1507482000@www.empowerwellness.com
SUMMARY:Guided Healing Meditation
DESCRIPTION:Anyone can learn to quiet the mind. Guided Healing Meditation lets you have that experience.\nExperience a 50 minute guided healing meditation intended to help participants deeply relax. As part of the meditation\, a Qi Gong healing will be offered for the group. If you are interested in Qi Gong healing\, Pangu Shengong\, or meditation\, this is a good way to experience how this practice can bring more peace\, ease\, and healing into your life. Even if you don’t care about any of that\, these group sessions are beneficial and will help you relax and feel supported. \nQi Gong Healing is based on the same principles as acupuncture methods and martial arts forms. Many report deep and long lasting changes emotionally and physically after experience with Qi Gong healing and meditation. Come get a taste of what it is about and come back often! $10 donation. See http://www.empowerwellness.com/group-healing-meditation/ for more info. Please arrive at least 5 minutes early so you can get settled before we start. \n-Pre-Register Here- \nRaleigh Yoga Center\, 619 Oberlin Rd (Rear of Burnie Batchelor Building) \nPark in the rear accessed from the right side of the building. \nWhy donation\nI often rent the space where these meditations are held\, so donations help to defray that cost.  Also I want to honor my time spent preparing for and leading these meditations and I do believe that my time\, skills\, and gifts are worth something.  By not putting a required fee on these sessions\, my intention is to make the opportunity for guided meditation and healing available to all.  It is not my intention to offer these sessions for free. \nFurther\, it is also well known in our culture that people value things more when they pay for them or give some consideration.  The adage “You get what you pay for” when one is disappointed with something they got for free or little money illustrates this sentiment. I ask for a $10 donation per group session\, but it is always up to the participant to give what they can.
URL:https://www.empowerwellness.com/event/guided-healing-meditation-14/
LOCATION:Raleigh Yoga Center\, 619 Oberlin RD\, Raleigh\, NC\,  27605\, United States
CATEGORIES:Healing,Meditation
ORGANIZER;CN="Erin Tracy":MAILTO:erin@empowerwellness.com
END:VEVENT
BEGIN:VEVENT
DTSTART;TZID=UTC:20170924T160000
DTEND;TZID=UTC:20170924T170000
DTSTAMP:20260424T115412
CREATED:20170906T204122Z
LAST-MODIFIED:20170922T161632Z
UID:868-1506268800-1506272400@www.empowerwellness.com
SUMMARY:Guided Healing Meditation
DESCRIPTION:Anyone can learn to quiet the mind. Guided Healing Meditation lets you have that experience.\nExperience a 50 minute guided healing meditation intended to help participants deeply relax. As part of the meditation\, a Qi Gong healing will be offered for the group. If you are interested in Qi Gong healing\, Pangu Shengong\, or meditation\, this is a good way to experience how this practice can bring more peace\, ease\, and healing into your life. Even if you don’t care about any of that\, these group sessions are beneficial and will help you relax and feel supported. \nQi Gong Healing is based on the same principles as acupuncture methods and martial arts forms. Many report deep and long lasting changes emotionally and physically after experience with Qi Gong healing and meditation. Come get a taste of what it is about and come back often! $10 donation. See http://www.empowerwellness.com/group-healing-meditation/ for more info. Please arrive at least 5 minutes early so you can get settled before we start. \n-Pre-Register Here- \nRaleigh Yoga Center\, 619 Oberlin Rd (Rear of Burnie Batchelor Building) \nPark in the rear accessed from the right side of the building. \nWhy donation\nI often rent the space where these meditations are held\, so donations help to defray that cost.  Also I want to honor my time spent preparing for and leading these meditations and I do believe that my time\, skills\, and gifts are worth something.  By not putting a required fee on these sessions\, my intention is to make the opportunity for guided meditation and healing available to all.  It is not my intention to offer these sessions for free. \nFurther\, it is also well known in our culture that people value things more when they pay for them or give some consideration.  The adage “You get what you pay for” when one is disappointed with something they got for free or little money illustrates this sentiment. I ask for a $10 donation per group session\, but it is always up to the participant to give what they can.
URL:https://www.empowerwellness.com/event/guided-healing-meditation-13/
LOCATION:Raleigh Yoga Center\, 619 Oberlin RD\, Raleigh\, NC\,  27605\, United States
CATEGORIES:Class,Group Practice,Healing,Meditation
ORGANIZER;CN="Erin Tracy":MAILTO:erin@empowerwellness.com
END:VEVENT
BEGIN:VEVENT
DTSTART;TZID=UTC:20170910T160000
DTEND;TZID=UTC:20170910T170000
DTSTAMP:20260424T115412
CREATED:20170906T204000Z
LAST-MODIFIED:20170906T211605Z
UID:866-1505059200-1505062800@www.empowerwellness.com
SUMMARY:Guided Healing Meditation
DESCRIPTION:Anyone can learn to quiet the mind. Guided Healing Meditation lets you have that experience.\nExperience a 50 minute guided healing meditation intended to help participants deeply relax. As part of the meditation\, a Qi Gong healing will be offered for the group. If you are interested in Qi Gong healing\, Pangu Shengong\, or meditation\, this is a good way to experience how this practice can bring more peace\, ease\, and healing into your life. Even if you don’t care about any of that\, these group sessions are beneficial and will help you relax and feel supported. \nQi Gong Healing is based on the same principles as acupuncture methods and martial arts forms. Many report deep and long lasting changes emotionally and physically after experience with Qi Gong healing and meditation. Come get a taste of what it is about and come back often! $10 donation. See http://www.empowerwellness.com/group-healing-meditation/ for more info. Please arrive at least 5 minutes early so you can get settled before we start. \n-Pre-Register Here- \nRaleigh Yoga Center\, 619 Oberlin Rd (Rear of Burnie Batchelor Building) \nPark in the rear accessed from the right side of the building. \nWhy donation\nI often rent the space where these meditations are held\, so donations help to defray that cost.  Also I want to honor my time spent preparing for and leading these meditations and I do believe that my time\, skills\, and gifts are worth something.  By not putting a required fee on these sessions\, my intention is to make the opportunity for guided meditation and healing available to all.  It is not my intention to offer these sessions for free. \nFurther\, it is also well known in our culture that people value things more when they pay for them or give some consideration.  The adage “You get what you pay for” when one is disappointed with something they got for free or little money illustrates this sentiment. I ask for a $10 donation per group session\, but it is always up to the participant to give what they can.
URL:https://www.empowerwellness.com/event/guided-healing-meditation-12/
LOCATION:Raleigh Yoga Center\, 619 Oberlin RD\, Raleigh\, NC\,  27605\, United States
CATEGORIES:Healing,Meditation
ORGANIZER;CN="Erin Tracy":MAILTO:erin@empowerwellness.com
END:VEVENT
BEGIN:VEVENT
DTSTART;TZID=UTC:20170827T160000
DTEND;TZID=UTC:20170827T170000
DTSTAMP:20260424T115412
CREATED:20170713T005919Z
LAST-MODIFIED:20170713T005919Z
UID:830-1503849600-1503853200@www.empowerwellness.com
SUMMARY:Guided Healing Meditation
DESCRIPTION:Anyone can learn to quiet the mind. Guided Healing Meditation lets you have that experience.\nExperience a 50 minute guided healing meditation intended to help participants deeply relax. As part of the meditation\, a Qi Gong healing will be offered for the group. If you are interested in Qi Gong healing\, Pangu Shengong\, or meditation\, this is a good way to experience how this practice can bring more peace\, ease\, and healing into your life. Even if you don’t care about any of that\, these group sessions are beneficial and will help you relax and feel supported. \nQi Gong Healing is based on the same principles as acupuncture methods and martial arts forms. Many report deep and long lasting changes emotionally and physically after experience with Qi Gong healing and meditation. Come get a taste of what it is about and come back often! $10 donation. See http://www.empowerwellness.com/group-healing-meditation/ for more info. Please arrive at least 5 minutes early so you can get settled before we start. \n-Pre-Register Here- \nRaleigh Yoga Center\, 619 Oberlin Rd (Rear of Burnie Batchelor Building) \nPark in the rear accessed from the right side of the building. \nWhy donation\nI often rent the space where these meditations are held\, so donations help to defray that cost.  Also I want to honor my time spent preparing for and leading these meditations and I do believe that my time\, skills\, and gifts are worth something.  By not putting a required fee on these sessions\, my intention is to make the opportunity for guided meditation and healing available to all.  It is not my intention to offer these sessions for free. \nFurther\, it is also well known in our culture that people value things more when they pay for them or give some consideration.  The adage “You get what you pay for” when one is disappointed with something they got for free or little money illustrates this sentiment. I ask for a $10 donation per group session\, but it is always up to the participant to give what they can.
URL:https://www.empowerwellness.com/event/guided-healing-meditation-11/
LOCATION:Raleigh Yoga Center\, 619 Oberlin RD\, Raleigh\, NC\,  27605\, United States
CATEGORIES:Meditation
ORGANIZER;CN="Erin Tracy":MAILTO:erin@empowerwellness.com
END:VEVENT
END:VCALENDAR