BEGIN:VCALENDAR
VERSION:2.0
PRODID:-//Empower Wellness - ECPv6.15.11//NONSGML v1.0//EN
CALSCALE:GREGORIAN
METHOD:PUBLISH
X-ORIGINAL-URL:https://www.empowerwellness.com
X-WR-CALDESC:Events for Empower Wellness
REFRESH-INTERVAL;VALUE=DURATION:PT1H
X-Robots-Tag:noindex
X-PUBLISHED-TTL:PT1H
BEGIN:VTIMEZONE
TZID:UTC
BEGIN:STANDARD
TZOFFSETFROM:+0000
TZOFFSETTO:+0000
TZNAME:UTC
DTSTART:20170101T000000
END:STANDARD
END:VTIMEZONE
BEGIN:VEVENT
DTSTART;TZID=UTC:20181002T183000
DTEND;TZID=UTC:20181002T193000
DTSTAMP:20260424T134014
CREATED:20180813T042142Z
LAST-MODIFIED:20180919T143856Z
UID:1165-1538505000-1538508600@www.empowerwellness.com
SUMMARY:Pangu Tai Chi 8 Week Series Starts: Register NOW for Early Discount Thru Sept 20
DESCRIPTION:SERIES RESCHEDULED DUE TO CONSTRUCTION AT OPEN DOOR YOGA \nErin Tracy will be leading instruction in Returning Tai Chi Chu’an form (Pangu Tai Chi) OCT 2\, 2018 for Eight Tuesday nights 6:30-7:30 (skip Thanksgiving Week) at Open Door Yoga (in AIR CONDITIONED SPACE even though it’s a Hot Yoga Studio). The first date is Oct 2. \n$104 Early Registration by Sept 20; After Sept 20\, $120 for 8 weeks. Pre-Registration and Payment Info at Open Door Yoga. \nWe aren’t doing anything difficult or using martial applications in this class. Regular Tai Chi practice strengthens and protects the joints – working gently with the ligaments\, tendons\, and muscles. The added benefit of this form\, Returning Form Tai Chi\, is the support for your organs as well. You should feel awesome after a class session! We will take it easy in this class; it will not be intense or require a lot of endurance. However\, it is best to already have a regular movement routine (like walking or gardening) since we will be on our feet for 45-60 minutes. Of course\, you may sit as needed. Please see contact Erin for more information. TO REGISTER: go to OPEN DOOR YOGA’s website (the graphic and dates may not be updated yet\, but at checkout\, you can see correct dates). \nThis is a great article from the New York Times about Tai Chi Chu’an benefits. \nPLEASE NOTE: Erin has been studying Tai Chi with Vincent Chu and his students. She will be introducing the Level I Pangu Tai Chi (Returning Form Tai Chi Chu’an). It is very beneficial to take this class multiple times to get the fine tuning and to help internalize the sequence.  Even if you are only interested in the hour long class\, the benefits will be noted.  \n Pre-Registration and Payment Info at Open Door Yoga \nPangu Tai Chi Group Practice (all group not pictured)
URL:https://www.empowerwellness.com/event/pangu-tai-chi-8-week-series/
LOCATION:Open Door Yoga\, 745 W Johnson St\, Raleigh\, 27603\, United States
CATEGORIES:Class,tai chi,tai chi chu'an
ORGANIZER;CN="Erin Tracy":MAILTO:erin@empowerwellness.com
END:VEVENT
END:VCALENDAR