BEGIN:VCALENDAR
VERSION:2.0
PRODID:-//Empower Wellness - ECPv6.15.11//NONSGML v1.0//EN
CALSCALE:GREGORIAN
METHOD:PUBLISH
X-ORIGINAL-URL:https://www.empowerwellness.com
X-WR-CALDESC:Events for Empower Wellness
REFRESH-INTERVAL;VALUE=DURATION:PT1H
X-Robots-Tag:noindex
X-PUBLISHED-TTL:PT1H
BEGIN:VTIMEZONE
TZID:America/New_York
BEGIN:DAYLIGHT
TZOFFSETFROM:-0500
TZOFFSETTO:-0400
TZNAME:EDT
DTSTART:20230312T070000
END:DAYLIGHT
BEGIN:STANDARD
TZOFFSETFROM:-0400
TZOFFSETTO:-0500
TZNAME:EST
DTSTART:20231105T060000
END:STANDARD
BEGIN:DAYLIGHT
TZOFFSETFROM:-0500
TZOFFSETTO:-0400
TZNAME:EDT
DTSTART:20240310T070000
END:DAYLIGHT
BEGIN:STANDARD
TZOFFSETFROM:-0400
TZOFFSETTO:-0500
TZNAME:EST
DTSTART:20241103T060000
END:STANDARD
BEGIN:DAYLIGHT
TZOFFSETFROM:-0500
TZOFFSETTO:-0400
TZNAME:EDT
DTSTART:20250309T070000
END:DAYLIGHT
BEGIN:STANDARD
TZOFFSETFROM:-0400
TZOFFSETTO:-0500
TZNAME:EST
DTSTART:20251102T060000
END:STANDARD
END:VTIMEZONE
BEGIN:VEVENT
DTSTART;TZID=America/New_York:20240205T183000
DTEND;TZID=America/New_York:20240205T200000
DTSTAMP:20260425T134524
CREATED:20240109T194733Z
LAST-MODIFIED:20240202T140125Z
UID:2447-1707157800-1707163200@www.empowerwellness.com
SUMMARY:Women's Evolutionary Circle Begins
DESCRIPTION:-10 sessions total-\nWomen grow in a supportive community of loving and compassionate witnesses. We all have in our DNA mastery of joyful\, harmonious living. Personally\, as someone who tends to be an introverted Lone Wolf\, I know without a shadow of a doubt that the communities of women I have shown up for in the last ten years are an integral part of my cultivating my inner strength and resiliency. We benefit from having a place to share our vulnerabilities and to discern the path to APPLY the wisdom we contain (even if we haven’t yet remembered it all –  *GRIN*).\n\n\nI have decided to offer this Circle now because\n(1) it has been requested by clients and colleagues and\n(2) I know the power of a Sisterhood of Masters.\n\n\nDo you have a desire to continue growing in mastery and healing into a life that keeps getting better and better?\n\n\nThe intention of this group is:\n-part-workshop\n-part-healing circle\n-part discussion\n…where we learn tools and methods for applying teachings and hold a sincere intention to build a sisterhood in these circles where all women are supported in their evolution and we each increase in non-judgemental awareness and healing and creating new paths.\n\n\nWe shall continue to quiet the self-critic\, expand our capacity for kindness and grace\, and be curious about evolving our judgments that are not serving us in the highest way. We shall acknowledge how to harmonize our energy with that which we are interacting… (i.e. less drained by others and stay energized even when you previously felt depleted. Hello\, Empowered Empaths!)\n\n\n\nJoy is your birthright!\n\n\n\nSo that we may consistently Apply Apply Apply the wisdom we’ve learned for a new chapter that starts NOW.\n\n\n(Additionally\, all participants will be sent healing energy for 15 minutes daily Monday – Friday between 6:30am-8:00am window. All you need to do is intend to receive this during the months we are connected in Circle.)\n\nFor the spring we will be referring to the book\, The Fifth Agreement\, by Don Miguel Ruiz and Don Jose Ruiz.  (There is no requirement to read\, only the invitation.  It will greatly support the work we will be doing in the Circle but I will review the teaching in the book as we go.) Even if you are familiar with the book\, I encourage you to read it again – I assure you even if you think you “know” the Four Agreements and the Fifth Agreement\, this will be a new\, up-level experience. \nWe will read through the first 2 chapters by our second meeting. We will take 25-35 pages every 2 weeks… Feel free to use the Audio version if that is better for you… and remember there is no REQUIREMENT to read at all… \n\nFor the first season of these circles\, we will meet 10 times\, February through June (approximately 2 times a month. Usually these will be every other week; see schedule of dates.)\n\n\nWe will be meeting online via Zoom these 2024 Monday dates 6:30-8:00 pm (or 8:15 pm if needed) Eastern USA Time. We will be on camera and will get to know each other. Please eat before or after class and bring your tea or water to the sessions. Yay Brave!\n\nFeb 5\nFeb 12 (notice the spacing of dates…)\nMarch 4 (notice the spacing of dates…)\nMar 18\nApr 1\nApr 15\nMay 6\nMay 20\nJune 3\nJune 17 Last Circle meeting for this session\n\n\nThe fee for participating in the circle is $440\,  February – June 2024  and includes energetic support through these months: cash/check\, Zelle\, Venmo or PayPal balance.  Please add $15 for credit cards.  You may divide the fee into 2 payments due Feb 1 and February 29\, if preferred. Please just let me know what you want to do.\n\nHOW TO JOIN:\nIf you would like to participate in this unique gathering of growth and camaraderie – a community of evolving masters (that’s you!)\, please let me know by sending a contact form or email by Feb 12. The first meeting though is Feb 5 2024.\nIf I don’t know you yet or we haven’t worked together before\, we will have a quick phone call to ensure this is the right fit for us both.\n\n\n\nThank you! Please reach out with any questions.\n\n\n\n\nLove\, Erin Tracy\n+19196169218\n\n\nZelle\, PayPal balance or cash payment use my email address or contact me.\nVenmo: Erin-Tracy-EmpWell “Erin Tracy”\n\nFrequently Asked Questions:\n(some of these are actual verbatim answers to questions asked to me lately. Others are more of a summary.)\n\nQ: What if I already know that I will miss a class or two?\nA: One of the great things about this Circle\,  is that the energy of the Circle is there even if you can’t be present at the same time we meet. \n\nFor what its worth\, when I miss my own in-person women’s circle when out of town\, I check with sisters after a missed class and get the gist of the missed content and any “extension” suggestions…  \n\nI am going to suggest that this group develop a similar\, informal system if someone misses….\n\n\n\nIt’s up to you of course! If you are feeling the yes\, I trust it will be awesome however it unfolds. \n\n\nQ: Will sessions be recorded?\nA: No. This is for privacy reasons and also\, most importantly\, to hold the intention that we commit to being present in the same time and place for our meetings.  \n\nQ: I don’t really feel comfortable sharing the things that I’m struggling with with strangers/people I know. Will I still get much from the Circle if I am quieter?\nA: First\, these sessions are not group therapy.  While we will check in with each other generally\, we will not be encouraging the repeating of stories that could be keeping us from growing.  \nSecond\, not all people are as skilled as others at holding space so as not to be drawn into the energy of someone else’s suffering.  We will be learning how to listen and be present with compassionate and loving stance that does not cost us.  Hello to Empowered Empathy!\nThird\, I will be encouraging you to allow the group to witness where you might struggle.  You won’t be the only one\, most likely\, with that challenge! So be brave.  Experience the empowerment of being vulnerable and soft and safe! No need to be overly specific.  If needed we can have a private session to discuss details…\n\nQ: I don’t have any experience with energy work and I am not sure I want that.\nA: Everything is energy. Everything has energy. So\, while I am holding a container for us to gather with my intention and experience\, these sessions though are not like groups I have done before.  We are looking to APPLY APPLY APPLY the guidance we have learned or are learning. In this safe community\, we are learning to FISH. I am not “fishing” for you. So while we are learning tools to move emotional states\, old limiting beliefs\, and stories that keep us small\, I will not be facilitating directly your progress.  You are the one who can do that best! I will assist you in moving the obstacles with your mind\, heart\, and soul.  All will grow in our little community of common purpose (Joy-fun-happiness-abundance-fabulous relationships-ETC).\n\nQ: Are you going to keep offering a Circle or Circles after this first one is complete?\nA: I am remaining open to all possibilities and I would be elated to continue.\n\nMore questions? Let me know here.  \n\nReady to register? You may join up until Feb 12. The first meeting is  Feb 5 2024.\nSend an email or contact me this way.
URL:https://www.empowerwellness.com/event/womens-evolutionary-circle-begins/
LOCATION:Online : See description for link\, Online - Zoom
CATEGORIES:Workshop
ORGANIZER;CN="Erin Tracy":MAILTO:erin@empowerwellness.com
END:VEVENT
END:VCALENDAR